BEGIN:VCALENDAR
VERSION:2.0
PRODID:-//Menadue Camps - ECPv6.0.9//NONSGML v1.0//EN
CALSCALE:GREGORIAN
METHOD:PUBLISH
X-WR-CALNAME:Menadue Camps
X-ORIGINAL-URL:https://menaduecamp.org.uk
X-WR-CALDESC:Events for Menadue Camps
REFRESH-INTERVAL;VALUE=DURATION:PT1H
X-Robots-Tag:noindex
X-PUBLISHED-TTL:PT1H
BEGIN:VTIMEZONE
TZID:Europe/London
BEGIN:DAYLIGHT
TZOFFSETFROM:+0000
TZOFFSETTO:+0100
TZNAME:BST
DTSTART:20260329T010000
END:DAYLIGHT
BEGIN:STANDARD
TZOFFSETFROM:+0100
TZOFFSETTO:+0000
TZNAME:GMT
DTSTART:20261025T010000
END:STANDARD
END:VTIMEZONE
BEGIN:VEVENT
DTSTART;VALUE=DATE:20260725
DTEND;VALUE=DATE:20260802
DTSTAMP:20260422T223858
CREATED:20221115T100557Z
LAST-MODIFIED:20260101T175940Z
UID:7640-1784937600-1785628799@menaduecamp.org.uk
SUMMARY:Menadue Discover Camp
DESCRIPTION:
URL:https://menaduecamp.org.uk/event/menadue-discover-camp/
LOCATION:Menadue Farm\, Menadue Farm (Not for correspondence)\, Tintagel\, Cornwall\, PL34 0HR\, United Kingdom
CATEGORIES:Junior
ORGANIZER;CN="Andy%20Curtis":MAILTO:andy.curtis@menaduecamp.org.uk
END:VEVENT
END:VCALENDAR